BEGIN:VCALENDAR
VERSION:2.0
PRODID:-//Weymouth Historical Society - ECPv6.15.20//NONSGML v1.0//EN
CALSCALE:GREGORIAN
METHOD:PUBLISH
X-ORIGINAL-URL:https://www.weymouthhistoricalsociety.org
X-WR-CALDESC:Events for Weymouth Historical Society
REFRESH-INTERVAL;VALUE=DURATION:PT1H
X-Robots-Tag:noindex
X-PUBLISHED-TTL:PT1H
BEGIN:VTIMEZONE
TZID:America/New_York
BEGIN:DAYLIGHT
TZOFFSETFROM:-0500
TZOFFSETTO:-0400
TZNAME:EDT
DTSTART:20240310T070000
END:DAYLIGHT
BEGIN:STANDARD
TZOFFSETFROM:-0400
TZOFFSETTO:-0500
TZNAME:EST
DTSTART:20241103T060000
END:STANDARD
BEGIN:DAYLIGHT
TZOFFSETFROM:-0500
TZOFFSETTO:-0400
TZNAME:EDT
DTSTART:20250309T070000
END:DAYLIGHT
BEGIN:STANDARD
TZOFFSETFROM:-0400
TZOFFSETTO:-0500
TZNAME:EST
DTSTART:20251102T060000
END:STANDARD
BEGIN:DAYLIGHT
TZOFFSETFROM:-0500
TZOFFSETTO:-0400
TZNAME:EDT
DTSTART:20260308T070000
END:DAYLIGHT
BEGIN:STANDARD
TZOFFSETFROM:-0400
TZOFFSETTO:-0500
TZNAME:EST
DTSTART:20261101T060000
END:STANDARD
END:VTIMEZONE
BEGIN:VEVENT
DTSTART;TZID=America/New_York:20250108T090000
DTEND;TZID=America/New_York:20250108T130000
DTSTAMP:20260420T090237
CREATED:20241130T184605Z
LAST-MODIFIED:20241130T184605Z
UID:1306-1736326800-1736341200@www.weymouthhistoricalsociety.org
SUMMARY:Open Hours
DESCRIPTION:Open to the public – drop by to view our exhibits\, conduct research\, and learn about volunteer opportunities!
URL:https://www.weymouthhistoricalsociety.org/event/open-hours-2025-01-08/
LOCATION:Jason Holbrook Homestead\, 238 Park Ave\, Weymouth\, MA\, 02190\, United States
END:VEVENT
BEGIN:VEVENT
DTSTART;TZID=America/New_York:20250115T090000
DTEND;TZID=America/New_York:20250115T130000
DTSTAMP:20260420T090237
CREATED:20241130T184659Z
LAST-MODIFIED:20241130T184659Z
UID:1308-1736931600-1736946000@www.weymouthhistoricalsociety.org
SUMMARY:Open Hours
DESCRIPTION:Open to the public – drop by to view our exhibits\, conduct research\, and learn about volunteer opportunities!
URL:https://www.weymouthhistoricalsociety.org/event/open-hours-2025-01-15/
LOCATION:Jason Holbrook Homestead\, 238 Park Ave\, Weymouth\, MA\, 02190\, United States
END:VEVENT
BEGIN:VEVENT
DTSTART;TZID=America/New_York:20250122T090000
DTEND;TZID=America/New_York:20250122T130000
DTSTAMP:20260420T090237
CREATED:20241130T184754Z
LAST-MODIFIED:20241130T184754Z
UID:1310-1737536400-1737550800@www.weymouthhistoricalsociety.org
SUMMARY:Open Hours
DESCRIPTION:Open to the public – drop by to view our exhibits\, conduct research\, and learn about volunteer opportunities!
URL:https://www.weymouthhistoricalsociety.org/event/open-hours-2025-01-22/
LOCATION:Jason Holbrook Homestead\, 238 Park Ave\, Weymouth\, MA\, 02190\, United States
END:VEVENT
BEGIN:VEVENT
DTSTART;TZID=America/New_York:20250129T090000
DTEND;TZID=America/New_York:20250129T130000
DTSTAMP:20260420T090237
CREATED:20241130T184853Z
LAST-MODIFIED:20241130T184853Z
UID:1312-1738141200-1738155600@www.weymouthhistoricalsociety.org
SUMMARY:Open Hours
DESCRIPTION:Open to the public – drop by to view our exhibits\, conduct research\, and learn about volunteer opportunities!
URL:https://www.weymouthhistoricalsociety.org/event/open-hours-2025-01-29/
LOCATION:Jason Holbrook Homestead\, 238 Park Ave\, Weymouth\, MA\, 02190\, United States
END:VEVENT
END:VCALENDAR