BEGIN:VCALENDAR
VERSION:2.0
PRODID:-//Weymouth Historical Society - ECPv6.15.20//NONSGML v1.0//EN
CALSCALE:GREGORIAN
METHOD:PUBLISH
X-ORIGINAL-URL:https://www.weymouthhistoricalsociety.org
X-WR-CALDESC:Events for Weymouth Historical Society
REFRESH-INTERVAL;VALUE=DURATION:PT1H
X-Robots-Tag:noindex
X-PUBLISHED-TTL:PT1H
BEGIN:VTIMEZONE
TZID:America/New_York
BEGIN:DAYLIGHT
TZOFFSETFROM:-0500
TZOFFSETTO:-0400
TZNAME:EDT
DTSTART:20230312T070000
END:DAYLIGHT
BEGIN:STANDARD
TZOFFSETFROM:-0400
TZOFFSETTO:-0500
TZNAME:EST
DTSTART:20231105T060000
END:STANDARD
BEGIN:DAYLIGHT
TZOFFSETFROM:-0500
TZOFFSETTO:-0400
TZNAME:EDT
DTSTART:20240310T070000
END:DAYLIGHT
BEGIN:STANDARD
TZOFFSETFROM:-0400
TZOFFSETTO:-0500
TZNAME:EST
DTSTART:20241103T060000
END:STANDARD
BEGIN:DAYLIGHT
TZOFFSETFROM:-0500
TZOFFSETTO:-0400
TZNAME:EDT
DTSTART:20250309T070000
END:DAYLIGHT
BEGIN:STANDARD
TZOFFSETFROM:-0400
TZOFFSETTO:-0500
TZNAME:EST
DTSTART:20251102T060000
END:STANDARD
END:VTIMEZONE
BEGIN:VEVENT
DTSTART;TZID=America/New_York:20241204T090000
DTEND;TZID=America/New_York:20241204T130000
DTSTAMP:20260420T103251
CREATED:20241003T204644Z
LAST-MODIFIED:20241003T204644Z
UID:1293-1733302800-1733317200@www.weymouthhistoricalsociety.org
SUMMARY:Open Hours
DESCRIPTION:Open to the public – drop by to view our exhibits\, conduct research\, and learn about volunteer opportunities!
URL:https://www.weymouthhistoricalsociety.org/event/open-hours-2024-12-04/
LOCATION:Jason Holbrook Homestead\, 238 Park Ave\, Weymouth\, MA\, 02190\, United States
END:VEVENT
BEGIN:VEVENT
DTSTART;TZID=America/New_York:20241211T090000
DTEND;TZID=America/New_York:20241211T130000
DTSTAMP:20260420T103251
CREATED:20241003T204730Z
LAST-MODIFIED:20241003T204730Z
UID:1295-1733907600-1733922000@www.weymouthhistoricalsociety.org
SUMMARY:Open Hours
DESCRIPTION:Open to the public – drop by to view our exhibits\, conduct research\, and learn about volunteer opportunities!
URL:https://www.weymouthhistoricalsociety.org/event/open-hours-2024-12-11/
LOCATION:Jason Holbrook Homestead\, 238 Park Ave\, Weymouth\, MA\, 02190\, United States
END:VEVENT
BEGIN:VEVENT
DTSTART;TZID=America/New_York:20241218T090000
DTEND;TZID=America/New_York:20241218T130000
DTSTAMP:20260420T103251
CREATED:20241003T204828Z
LAST-MODIFIED:20241003T204828Z
UID:1297-1734512400-1734526800@www.weymouthhistoricalsociety.org
SUMMARY:Open Hours
DESCRIPTION:Open to the public – drop by to view our exhibits\, conduct research\, and learn about volunteer opportunities!
URL:https://www.weymouthhistoricalsociety.org/event/open-hours-2024-12-18/
LOCATION:Jason Holbrook Homestead\, 238 Park Ave\, Weymouth\, MA\, 02190\, United States
END:VEVENT
END:VCALENDAR