BEGIN:VCALENDAR
VERSION:2.0
PRODID:-//Weymouth Historical Society - ECPv6.15.20//NONSGML v1.0//EN
CALSCALE:GREGORIAN
METHOD:PUBLISH
X-ORIGINAL-URL:https://www.weymouthhistoricalsociety.org
X-WR-CALDESC:Events for Weymouth Historical Society
REFRESH-INTERVAL;VALUE=DURATION:PT1H
X-Robots-Tag:noindex
X-PUBLISHED-TTL:PT1H
BEGIN:VTIMEZONE
TZID:America/New_York
BEGIN:DAYLIGHT
TZOFFSETFROM:-0500
TZOFFSETTO:-0400
TZNAME:EDT
DTSTART:20230312T070000
END:DAYLIGHT
BEGIN:STANDARD
TZOFFSETFROM:-0400
TZOFFSETTO:-0500
TZNAME:EST
DTSTART:20231105T060000
END:STANDARD
BEGIN:DAYLIGHT
TZOFFSETFROM:-0500
TZOFFSETTO:-0400
TZNAME:EDT
DTSTART:20240310T070000
END:DAYLIGHT
BEGIN:STANDARD
TZOFFSETFROM:-0400
TZOFFSETTO:-0500
TZNAME:EST
DTSTART:20241103T060000
END:STANDARD
BEGIN:DAYLIGHT
TZOFFSETFROM:-0500
TZOFFSETTO:-0400
TZNAME:EDT
DTSTART:20250309T070000
END:DAYLIGHT
BEGIN:STANDARD
TZOFFSETFROM:-0400
TZOFFSETTO:-0500
TZNAME:EST
DTSTART:20251102T060000
END:STANDARD
END:VTIMEZONE
BEGIN:VEVENT
DTSTART;TZID=America/New_York:20240807T090000
DTEND;TZID=America/New_York:20240807T130000
DTSTAMP:20260420T174523
CREATED:20240606T205227Z
LAST-MODIFIED:20240606T205227Z
UID:1263-1723021200-1723035600@www.weymouthhistoricalsociety.org
SUMMARY:Open Hours
DESCRIPTION:Open to the public – drop by to view our exhibits\, conduct research\, and learn about volunteer opportunities!
URL:https://www.weymouthhistoricalsociety.org/event/open-hours-2024-08-07/
LOCATION:Jason Holbrook Homestead\, 238 Park Ave\, Weymouth\, MA\, 02190\, United States
END:VEVENT
BEGIN:VEVENT
DTSTART;TZID=America/New_York:20240814T090000
DTEND;TZID=America/New_York:20240814T130000
DTSTAMP:20260420T174523
CREATED:20240606T205315Z
LAST-MODIFIED:20240606T205315Z
UID:1265-1723626000-1723640400@www.weymouthhistoricalsociety.org
SUMMARY:Open Hours
DESCRIPTION:Open to the public – drop by to view our exhibits\, conduct research\, and learn about volunteer opportunities!
URL:https://www.weymouthhistoricalsociety.org/event/open-hours-2024-08-14/
LOCATION:Jason Holbrook Homestead\, 238 Park Ave\, Weymouth\, MA\, 02190\, United States
END:VEVENT
BEGIN:VEVENT
DTSTART;TZID=America/New_York:20240821T090000
DTEND;TZID=America/New_York:20240821T130000
DTSTAMP:20260420T174523
CREATED:20240606T205406Z
LAST-MODIFIED:20240606T205406Z
UID:1267-1724230800-1724245200@www.weymouthhistoricalsociety.org
SUMMARY:Open Hours
DESCRIPTION:Open to the public – drop by to view our exhibits\, conduct research\, and learn about volunteer opportunities!
URL:https://www.weymouthhistoricalsociety.org/event/open-hours-2024-08-21/
LOCATION:Jason Holbrook Homestead\, 238 Park Ave\, Weymouth\, MA\, 02190\, United States
END:VEVENT
BEGIN:VEVENT
DTSTART;TZID=America/New_York:20240828T090000
DTEND;TZID=America/New_York:20240828T130000
DTSTAMP:20260420T174523
CREATED:20240606T205459Z
LAST-MODIFIED:20240606T205459Z
UID:1269-1724835600-1724850000@www.weymouthhistoricalsociety.org
SUMMARY:Open Hours
DESCRIPTION:Open to the public – drop by to view our exhibits\, conduct research\, and learn about volunteer opportunities!
URL:https://www.weymouthhistoricalsociety.org/event/open-hours-2024-08-28/
LOCATION:Jason Holbrook Homestead\, 238 Park Ave\, Weymouth\, MA\, 02190\, United States
END:VEVENT
END:VCALENDAR