BEGIN:VCALENDAR
VERSION:2.0
PRODID:-//Weymouth Historical Society - ECPv6.15.20//NONSGML v1.0//EN
CALSCALE:GREGORIAN
METHOD:PUBLISH
X-WR-CALNAME:Weymouth Historical Society
X-ORIGINAL-URL:https://www.weymouthhistoricalsociety.org
X-WR-CALDESC:Events for Weymouth Historical Society
REFRESH-INTERVAL;VALUE=DURATION:PT1H
X-Robots-Tag:noindex
X-PUBLISHED-TTL:PT1H
BEGIN:VTIMEZONE
TZID:America/New_York
BEGIN:DAYLIGHT
TZOFFSETFROM:-0500
TZOFFSETTO:-0400
TZNAME:EDT
DTSTART:20230312T070000
END:DAYLIGHT
BEGIN:STANDARD
TZOFFSETFROM:-0400
TZOFFSETTO:-0500
TZNAME:EST
DTSTART:20231105T060000
END:STANDARD
BEGIN:DAYLIGHT
TZOFFSETFROM:-0500
TZOFFSETTO:-0400
TZNAME:EDT
DTSTART:20240310T070000
END:DAYLIGHT
BEGIN:STANDARD
TZOFFSETFROM:-0400
TZOFFSETTO:-0500
TZNAME:EST
DTSTART:20241103T060000
END:STANDARD
BEGIN:DAYLIGHT
TZOFFSETFROM:-0500
TZOFFSETTO:-0400
TZNAME:EDT
DTSTART:20250309T070000
END:DAYLIGHT
BEGIN:STANDARD
TZOFFSETFROM:-0400
TZOFFSETTO:-0500
TZNAME:EST
DTSTART:20251102T060000
END:STANDARD
END:VTIMEZONE
BEGIN:VEVENT
DTSTART;TZID=America/New_York:20240403T090000
DTEND;TZID=America/New_York:20240403T130000
DTSTAMP:20260423T083212
CREATED:20240210T170945Z
LAST-MODIFIED:20240210T170945Z
UID:1194-1712134800-1712149200@www.weymouthhistoricalsociety.org
SUMMARY:Open Hours
DESCRIPTION:Open to the public – drop by to view our exhibits\, conduct research\, and learn about volunteer opportunities!
URL:https://www.weymouthhistoricalsociety.org/event/open-hours-2024-04-03/
LOCATION:Jason Holbrook Homestead\, 238 Park Ave\, Weymouth\, MA\, 02190\, United States
END:VEVENT
BEGIN:VEVENT
DTSTART;TZID=America/New_York:20240410T090000
DTEND;TZID=America/New_York:20240410T130000
DTSTAMP:20260423T083212
CREATED:20240210T171035Z
LAST-MODIFIED:20240210T171035Z
UID:1196-1712739600-1712754000@www.weymouthhistoricalsociety.org
SUMMARY:Open Hours
DESCRIPTION:Open to the public – drop by to view our exhibits\, conduct research\, and learn about volunteer opportunities!
URL:https://www.weymouthhistoricalsociety.org/event/open-hours-2024-04-10/
LOCATION:Jason Holbrook Homestead\, 238 Park Ave\, Weymouth\, MA\, 02190\, United States
END:VEVENT
BEGIN:VEVENT
DTSTART;TZID=America/New_York:20240417T090000
DTEND;TZID=America/New_York:20240417T130000
DTSTAMP:20260423T083212
CREATED:20240210T171129Z
LAST-MODIFIED:20240210T171129Z
UID:1198-1713344400-1713358800@www.weymouthhistoricalsociety.org
SUMMARY:Open Hours
DESCRIPTION:Open to the public – drop by to view our exhibits\, conduct research\, and learn about volunteer opportunities!
URL:https://www.weymouthhistoricalsociety.org/event/open-hours-2024-04-17/
LOCATION:Jason Holbrook Homestead\, 238 Park Ave\, Weymouth\, MA\, 02190\, United States
END:VEVENT
BEGIN:VEVENT
DTSTART;TZID=America/New_York:20240420T113000
DTEND;TZID=America/New_York:20240420T143000
DTSTAMP:20260423T083212
CREATED:20240413T171532Z
LAST-MODIFIED:20240413T171532Z
UID:1226-1713612600-1713623400@www.weymouthhistoricalsociety.org
SUMMARY:Civil War Reenactments
DESCRIPTION:Please join the Weymouth Historical Society on Saturday\, April 20\, 2024\, at King Oak Hill Park in Weymouth from 11:30am – 2:30pm for a special FREE Civil War Time Re-Enactment unlike any other! This is the debut program of the Historical Ambassadors of New England\, an organization of museum professionals and enthusiasts brought together by a shared passion for history and belief in the power of quality public programming. We’re excited for you to join us where the past meets the present! There will also be special Weymouth Historical Society merchandise and books being sold during this event.  \n \nDownload flyer for WHS Civil War Reenactments
URL:https://www.weymouthhistoricalsociety.org/event/civil-war-reenactments/
LOCATION:King Oak Hill Park\, Emery Lane\, Weymouth\, MA\, 02189\, United States
END:VEVENT
BEGIN:VEVENT
DTSTART;TZID=America/New_York:20240424T090000
DTEND;TZID=America/New_York:20240424T130000
DTSTAMP:20260423T083212
CREATED:20240210T171220Z
LAST-MODIFIED:20240210T171220Z
UID:1200-1713949200-1713963600@www.weymouthhistoricalsociety.org
SUMMARY:Open Hours
DESCRIPTION:Open to the public – drop by to view our exhibits\, conduct research\, and learn about volunteer opportunities!
URL:https://www.weymouthhistoricalsociety.org/event/open-hours-2024-04-24/
LOCATION:Jason Holbrook Homestead\, 238 Park Ave\, Weymouth\, MA\, 02190\, United States
END:VEVENT
BEGIN:VEVENT
DTSTART;TZID=America/New_York:20240427T130000
DTEND;TZID=America/New_York:20240427T143000
DTSTAMP:20260423T083212
CREATED:20240405T165138Z
LAST-MODIFIED:20240413T174307Z
UID:1203-1714222800-1714228200@www.weymouthhistoricalsociety.org
SUMMARY:Annual Meeting and Lecture
DESCRIPTION:We are very excited to announce that our Annual Meeting this year will take place on Saturday April 27\, 2024 at the Tufts Library (46 Broad Street\, Weymouth\, MA 02188) in Multipurpose Room 138 from 1:00 pm to 2:30 pm. Our speaker this year is Anthony Sammarco and his popular lecture program “Going to Town: Shopping in Boston.” We ask that you join us after the lecture to hear about updates at the Holbrook House\, events coming up\, and opportunities to get involved. \n2024 Membership Dues are also due by April 30th\, 2024. There will be membership forms available to fill out for new members\, or for current members who wish to pay their dues in person (we can accept only cash and checks at this time). We look forward to seeing you there\, and as always if you have any questions or concerns please reach us by calling 781-340-1022\, or by emailing our Secretary Sabrina Manzelli at scmanzelli@gmail.com . \n \nDownload WHS Annual Meeting flyer
URL:https://www.weymouthhistoricalsociety.org/event/2024-annual-meeting-and-lecture/
LOCATION:Tufts Library\, 46 Broad Street\, Weymouth\, MA\, 02188\, United States
END:VEVENT
END:VCALENDAR