BEGIN:VCALENDAR
VERSION:2.0
PRODID:-//Weymouth Historical Society - ECPv6.15.20//NONSGML v1.0//EN
CALSCALE:GREGORIAN
METHOD:PUBLISH
X-ORIGINAL-URL:https://www.weymouthhistoricalsociety.org
X-WR-CALDESC:Events for Weymouth Historical Society
REFRESH-INTERVAL;VALUE=DURATION:PT1H
X-Robots-Tag:noindex
X-PUBLISHED-TTL:PT1H
BEGIN:VTIMEZONE
TZID:America/New_York
BEGIN:DAYLIGHT
TZOFFSETFROM:-0500
TZOFFSETTO:-0400
TZNAME:EDT
DTSTART:20230312T070000
END:DAYLIGHT
BEGIN:STANDARD
TZOFFSETFROM:-0400
TZOFFSETTO:-0500
TZNAME:EST
DTSTART:20231105T060000
END:STANDARD
BEGIN:DAYLIGHT
TZOFFSETFROM:-0500
TZOFFSETTO:-0400
TZNAME:EDT
DTSTART:20240310T070000
END:DAYLIGHT
BEGIN:STANDARD
TZOFFSETFROM:-0400
TZOFFSETTO:-0500
TZNAME:EST
DTSTART:20241103T060000
END:STANDARD
BEGIN:DAYLIGHT
TZOFFSETFROM:-0500
TZOFFSETTO:-0400
TZNAME:EDT
DTSTART:20250309T070000
END:DAYLIGHT
BEGIN:STANDARD
TZOFFSETFROM:-0400
TZOFFSETTO:-0500
TZNAME:EST
DTSTART:20251102T060000
END:STANDARD
END:VTIMEZONE
BEGIN:VEVENT
DTSTART;TZID=America/New_York:20240306T080000
DTEND;TZID=America/New_York:20240306T130000
DTSTAMP:20260423T102847
CREATED:20240120T192455Z
LAST-MODIFIED:20240120T192455Z
UID:1181-1709712000-1709730000@www.weymouthhistoricalsociety.org
SUMMARY:Open Hours
DESCRIPTION:Open to the public – drop by to view our exhibits\, conduct research\, and learn about volunteer opportunities!
URL:https://www.weymouthhistoricalsociety.org/event/open-hours-2024-03-06/
LOCATION:Jason Holbrook Homestead\, 238 Park Ave\, Weymouth\, MA\, 02190\, United States
END:VEVENT
BEGIN:VEVENT
DTSTART;TZID=America/New_York:20240313T090000
DTEND;TZID=America/New_York:20240313T130000
DTSTAMP:20260423T102847
CREATED:20240120T192557Z
LAST-MODIFIED:20240120T192557Z
UID:1183-1710320400-1710334800@www.weymouthhistoricalsociety.org
SUMMARY:Open Hours
DESCRIPTION:Open to the public – drop by to view our exhibits\, conduct research\, and learn about volunteer opportunities!
URL:https://www.weymouthhistoricalsociety.org/event/open-hours-2024-03-13/
LOCATION:Jason Holbrook Homestead\, 238 Park Ave\, Weymouth\, MA\, 02190\, United States
END:VEVENT
BEGIN:VEVENT
DTSTART;TZID=America/New_York:20240320T090000
DTEND;TZID=America/New_York:20240320T130000
DTSTAMP:20260423T102847
CREATED:20240120T192654Z
LAST-MODIFIED:20240120T192654Z
UID:1185-1710925200-1710939600@www.weymouthhistoricalsociety.org
SUMMARY:Open Hours
DESCRIPTION:Open to the public – drop by to view our exhibits\, conduct research\, and learn about volunteer opportunities!
URL:https://www.weymouthhistoricalsociety.org/event/open-hours-2024-03-20/
LOCATION:Jason Holbrook Homestead\, 238 Park Ave\, Weymouth\, MA\, 02190\, United States
END:VEVENT
BEGIN:VEVENT
DTSTART;TZID=America/New_York:20240323T170000
DTEND;TZID=America/New_York:20240324T010000
DTSTAMP:20260423T102847
CREATED:20240210T170723Z
LAST-MODIFIED:20240210T170723Z
UID:1191-1711213200-1711242000@www.weymouthhistoricalsociety.org
SUMMARY:Haunted Holbrook
DESCRIPTION:Step back in time with Scott Porter and Stephanie Burke at the Historic Holbrook Homestead in Weymouth\, Massachusetts for a night of history and mystery during the FIRST EVER investigation at this location! This will be a very intimate small group investigation with two different groups and two different start times. For more information and to register\, click the Eventbrite website link below.
URL:https://www.weymouthhistoricalsociety.org/event/haunted-holbrook/
LOCATION:Jason Holbrook Homestead\, 238 Park Ave\, Weymouth\, MA\, 02190\, United States
END:VEVENT
BEGIN:VEVENT
DTSTART;TZID=America/New_York:20240327T090000
DTEND;TZID=America/New_York:20240327T130000
DTSTAMP:20260423T102847
CREATED:20240120T192751Z
LAST-MODIFIED:20240120T192751Z
UID:1187-1711530000-1711544400@www.weymouthhistoricalsociety.org
SUMMARY:Open Hours
DESCRIPTION:Open to the public – drop by to view our exhibits\, conduct research\, and learn about volunteer opportunities!
URL:https://www.weymouthhistoricalsociety.org/event/open-hours-2024-03-27/
LOCATION:Jason Holbrook Homestead\, 238 Park Ave\, Weymouth\, MA\, 02190\, United States
END:VEVENT
END:VCALENDAR