BEGIN:VCALENDAR
VERSION:2.0
PRODID:-//Weymouth Historical Society - ECPv6.15.20//NONSGML v1.0//EN
CALSCALE:GREGORIAN
METHOD:PUBLISH
X-ORIGINAL-URL:https://www.weymouthhistoricalsociety.org
X-WR-CALDESC:Events for Weymouth Historical Society
REFRESH-INTERVAL;VALUE=DURATION:PT1H
X-Robots-Tag:noindex
X-PUBLISHED-TTL:PT1H
BEGIN:VTIMEZONE
TZID:America/New_York
BEGIN:DAYLIGHT
TZOFFSETFROM:-0500
TZOFFSETTO:-0400
TZNAME:EDT
DTSTART:20220313T070000
END:DAYLIGHT
BEGIN:STANDARD
TZOFFSETFROM:-0400
TZOFFSETTO:-0500
TZNAME:EST
DTSTART:20221106T060000
END:STANDARD
BEGIN:DAYLIGHT
TZOFFSETFROM:-0500
TZOFFSETTO:-0400
TZNAME:EDT
DTSTART:20230312T070000
END:DAYLIGHT
BEGIN:STANDARD
TZOFFSETFROM:-0400
TZOFFSETTO:-0500
TZNAME:EST
DTSTART:20231105T060000
END:STANDARD
BEGIN:DAYLIGHT
TZOFFSETFROM:-0500
TZOFFSETTO:-0400
TZNAME:EDT
DTSTART:20240310T070000
END:DAYLIGHT
BEGIN:STANDARD
TZOFFSETFROM:-0400
TZOFFSETTO:-0500
TZNAME:EST
DTSTART:20241103T060000
END:STANDARD
END:VTIMEZONE
BEGIN:VEVENT
DTSTART;TZID=America/New_York:20231011T090000
DTEND;TZID=America/New_York:20231011T130000
DTSTAMP:20260419T082022
CREATED:20230826T122558Z
LAST-MODIFIED:20230826T122558Z
UID:1131-1697014800-1697029200@www.weymouthhistoricalsociety.org
SUMMARY:Open Hours
DESCRIPTION:Open to the public – drop by to view our exhibits\, conduct research\, and learn about volunteer opportunities!
URL:https://www.weymouthhistoricalsociety.org/event/open-hours-2023-10-11/
LOCATION:Jason Holbrook Homestead\, 238 Park Ave\, Weymouth\, MA\, 02190\, United States
END:VEVENT
BEGIN:VEVENT
DTSTART;TZID=America/New_York:20231004T090000
DTEND;TZID=America/New_York:20231004T130000
DTSTAMP:20260419T082022
CREATED:20230826T122458Z
LAST-MODIFIED:20230826T122458Z
UID:1129-1696410000-1696424400@www.weymouthhistoricalsociety.org
SUMMARY:Open Hours
DESCRIPTION:Open to the public – drop by to view our exhibits\, conduct research\, and learn about volunteer opportunities!
URL:https://www.weymouthhistoricalsociety.org/event/open-hours-2023-10-04/
LOCATION:Jason Holbrook Homestead\, 238 Park Ave\, Weymouth\, MA\, 02190\, United States
END:VEVENT
BEGIN:VEVENT
DTSTART;TZID=America/New_York:20230927T090000
DTEND;TZID=America/New_York:20230927T130000
DTSTAMP:20260419T082022
CREATED:20230703T215302Z
LAST-MODIFIED:20230703T215302Z
UID:1124-1695805200-1695819600@www.weymouthhistoricalsociety.org
SUMMARY:Open Hours
DESCRIPTION:Open to the public – drop by to view our exhibits\, conduct research\, and learn about volunteer opportunities!
URL:https://www.weymouthhistoricalsociety.org/event/open-hours-2023-09-27/
LOCATION:Jason Holbrook Homestead\, 238 Park Ave\, Weymouth\, MA\, 02190\, United States
END:VEVENT
BEGIN:VEVENT
DTSTART;TZID=America/New_York:20230920T090000
DTEND;TZID=America/New_York:20230920T130000
DTSTAMP:20260419T082022
CREATED:20230703T215210Z
LAST-MODIFIED:20230703T215210Z
UID:1122-1695200400-1695214800@www.weymouthhistoricalsociety.org
SUMMARY:Open Hours
DESCRIPTION:Open to the public – drop by to view our exhibits\, conduct research\, and learn about volunteer opportunities!
URL:https://www.weymouthhistoricalsociety.org/event/open-hours-2023-09-20/
LOCATION:Jason Holbrook Homestead\, 238 Park Ave\, Weymouth\, MA\, 02190\, United States
END:VEVENT
BEGIN:VEVENT
DTSTART;TZID=America/New_York:20230913T090000
DTEND;TZID=America/New_York:20230913T130000
DTSTAMP:20260419T082022
CREATED:20230703T215113Z
LAST-MODIFIED:20230703T215113Z
UID:1120-1694595600-1694610000@www.weymouthhistoricalsociety.org
SUMMARY:Open Hours
DESCRIPTION:Open to the public – drop by to view our exhibits\, conduct research\, and learn about volunteer opportunities!
URL:https://www.weymouthhistoricalsociety.org/event/open-hours-2023-09-13/
LOCATION:Jason Holbrook Homestead\, 238 Park Ave\, Weymouth\, MA\, 02190\, United States
END:VEVENT
BEGIN:VEVENT
DTSTART;TZID=America/New_York:20230906T090000
DTEND;TZID=America/New_York:20230906T130000
DTSTAMP:20260419T082022
CREATED:20230703T215002Z
LAST-MODIFIED:20230703T215002Z
UID:1118-1693990800-1694005200@www.weymouthhistoricalsociety.org
SUMMARY:Open Hours
DESCRIPTION:Open to the public – drop by to view our exhibits\, conduct research\, and learn about volunteer opportunities!
URL:https://www.weymouthhistoricalsociety.org/event/open-hours-2023-09-06/
LOCATION:Jason Holbrook Homestead\, 238 Park Ave\, Weymouth\, MA\, 02190\, United States
END:VEVENT
BEGIN:VEVENT
DTSTART;TZID=America/New_York:20230830T090000
DTEND;TZID=America/New_York:20230830T130000
DTSTAMP:20260419T082022
CREATED:20230610T191927Z
LAST-MODIFIED:20230610T191927Z
UID:1002-1693386000-1693400400@www.weymouthhistoricalsociety.org
SUMMARY:Open Hours
DESCRIPTION:Open to the public – drop by to view our exhibits\, conduct research\, and learn about volunteer opportunities!
URL:https://www.weymouthhistoricalsociety.org/event/open-hours-2023-08-30/
LOCATION:Jason Holbrook Homestead\, 238 Park Ave\, Weymouth\, MA\, 02190\, United States
END:VEVENT
BEGIN:VEVENT
DTSTART;TZID=America/New_York:20230826T090000
DTEND;TZID=America/New_York:20230826T130000
DTSTAMP:20260419T082022
CREATED:20230826T113756Z
LAST-MODIFIED:20230826T113756Z
UID:1127-1693040400-1693054800@www.weymouthhistoricalsociety.org
SUMMARY:Special Open House
DESCRIPTION:The Holbrook Homestead will be hosting an open house from 9:00 AM to 1:00 PM on Saturday\, August 26. Come visit us and spend time among Weymouth’s history!
URL:https://www.weymouthhistoricalsociety.org/event/special-open-house/
LOCATION:Jason Holbrook Homestead\, 238 Park Ave\, Weymouth\, MA\, 02190\, United States
END:VEVENT
BEGIN:VEVENT
DTSTART;TZID=America/New_York:20230823T090000
DTEND;TZID=America/New_York:20230823T130000
DTSTAMP:20260419T082022
CREATED:20230610T191822Z
LAST-MODIFIED:20230610T191822Z
UID:1000-1692781200-1692795600@www.weymouthhistoricalsociety.org
SUMMARY:Open Hours
DESCRIPTION:Open to the public – drop by to view our exhibits\, conduct research\, and learn about volunteer opportunities!
URL:https://www.weymouthhistoricalsociety.org/event/open-hours-2023-08-23/
LOCATION:Jason Holbrook Homestead\, 238 Park Ave\, Weymouth\, MA\, 02190\, United States
END:VEVENT
BEGIN:VEVENT
DTSTART;TZID=America/New_York:20230816T090000
DTEND;TZID=America/New_York:20230816T130000
DTSTAMP:20260419T082022
CREATED:20230610T191730Z
LAST-MODIFIED:20230610T191730Z
UID:998-1692176400-1692190800@www.weymouthhistoricalsociety.org
SUMMARY:Open Hours
DESCRIPTION:Open to the public – drop by to view our exhibits\, conduct research\, and learn about volunteer opportunities!
URL:https://www.weymouthhistoricalsociety.org/event/open-hours-2023-08-16/
LOCATION:Jason Holbrook Homestead\, 238 Park Ave\, Weymouth\, MA\, 02190\, United States
END:VEVENT
BEGIN:VEVENT
DTSTART;TZID=America/New_York:20230809T090000
DTEND;TZID=America/New_York:20230809T130000
DTSTAMP:20260419T082022
CREATED:20230610T191635Z
LAST-MODIFIED:20230610T191635Z
UID:996-1691571600-1691586000@www.weymouthhistoricalsociety.org
SUMMARY:Open Hours
DESCRIPTION:Open to the public – drop by to view our exhibits\, conduct research\, and learn about volunteer opportunities!
URL:https://www.weymouthhistoricalsociety.org/event/open-hours-2023-08-09/
LOCATION:Jason Holbrook Homestead\, 238 Park Ave\, Weymouth\, MA\, 02190\, United States
END:VEVENT
BEGIN:VEVENT
DTSTART;TZID=America/New_York:20230802T090000
DTEND;TZID=America/New_York:20230802T130000
DTSTAMP:20260419T082022
CREATED:20230610T191531Z
LAST-MODIFIED:20230610T191531Z
UID:994-1690966800-1690981200@www.weymouthhistoricalsociety.org
SUMMARY:Open Hours
DESCRIPTION:Open to the public – drop by to view our exhibits\, conduct research\, and learn about volunteer opportunities!
URL:https://www.weymouthhistoricalsociety.org/event/open-hours-2023-08-02/
LOCATION:Jason Holbrook Homestead\, 238 Park Ave\, Weymouth\, MA\, 02190\, United States
END:VEVENT
BEGIN:VEVENT
DTSTART;TZID=America/New_York:20230726T090000
DTEND;TZID=America/New_York:20230726T130000
DTSTAMP:20260419T082022
CREATED:20230502T001523Z
LAST-MODIFIED:20230502T001523Z
UID:980-1690362000-1690376400@www.weymouthhistoricalsociety.org
SUMMARY:Open Hours
DESCRIPTION:Open to the public – drop by to view our exhibits\, conduct research\, and learn about volunteer opportunities!
URL:https://www.weymouthhistoricalsociety.org/event/open-hours-2023-07-26/
LOCATION:Jason Holbrook Homestead\, 238 Park Ave\, Weymouth\, MA\, 02190\, United States
END:VEVENT
BEGIN:VEVENT
DTSTART;TZID=America/New_York:20230719T090000
DTEND;TZID=America/New_York:20230719T130000
DTSTAMP:20260419T082022
CREATED:20230502T001414Z
LAST-MODIFIED:20230502T001414Z
UID:978-1689757200-1689771600@www.weymouthhistoricalsociety.org
SUMMARY:Open Hours
DESCRIPTION:Open to the public – drop by to view our exhibits\, conduct research\, and learn about volunteer opportunities!
URL:https://www.weymouthhistoricalsociety.org/event/open-hours-2023-07-19/
LOCATION:Jason Holbrook Homestead\, 238 Park Ave\, Weymouth\, MA\, 02190\, United States
END:VEVENT
BEGIN:VEVENT
DTSTART;TZID=America/New_York:20230712T090000
DTEND;TZID=America/New_York:20230712T130000
DTSTAMP:20260419T082022
CREATED:20230502T001247Z
LAST-MODIFIED:20230502T001247Z
UID:976-1689152400-1689166800@www.weymouthhistoricalsociety.org
SUMMARY:Open Hours
DESCRIPTION:Open to the public – drop by to view our exhibits\, conduct research\, and learn about volunteer opportunities!
URL:https://www.weymouthhistoricalsociety.org/event/open-hours-2023-07-12/
LOCATION:Jason Holbrook Homestead\, 238 Park Ave\, Weymouth\, MA\, 02190\, United States
END:VEVENT
BEGIN:VEVENT
DTSTART;TZID=America/New_York:20230705T090000
DTEND;TZID=America/New_York:20230705T130000
DTSTAMP:20260419T082022
CREATED:20230502T001106Z
LAST-MODIFIED:20230502T001106Z
UID:974-1688547600-1688562000@www.weymouthhistoricalsociety.org
SUMMARY:Open Hours
DESCRIPTION:Open to the public – drop by to view our exhibits\, conduct research\, and learn about volunteer opportunities!
URL:https://www.weymouthhistoricalsociety.org/event/open-hours-2023-07-05/
LOCATION:Jason Holbrook Homestead\, 238 Park Ave\, Weymouth\, MA\, 02190\, United States
END:VEVENT
BEGIN:VEVENT
DTSTART;TZID=America/New_York:20230628T090000
DTEND;TZID=America/New_York:20230628T130000
DTSTAMP:20260419T082022
CREATED:20230311T182345Z
LAST-MODIFIED:20230311T182345Z
UID:885-1687942800-1687957200@www.weymouthhistoricalsociety.org
SUMMARY:Open Hours
DESCRIPTION:Open to the public – drop by to view our exhibits\, conduct research\, and learn about volunteer opportunities!
URL:https://www.weymouthhistoricalsociety.org/event/open-hours-2023-06-28/
LOCATION:Jason Holbrook Homestead\, 238 Park Ave\, Weymouth\, MA\, 02190\, United States
END:VEVENT
BEGIN:VEVENT
DTSTART;TZID=America/New_York:20230621T090000
DTEND;TZID=America/New_York:20230621T130000
DTSTAMP:20260419T082022
CREATED:20230311T182157Z
LAST-MODIFIED:20230311T182217Z
UID:883-1687338000-1687352400@www.weymouthhistoricalsociety.org
SUMMARY:Open Hours
DESCRIPTION:Open to the public – drop by to view our exhibits\, conduct research\, and learn about volunteer opportunities!
URL:https://www.weymouthhistoricalsociety.org/event/open-hours-2023-06-21/
LOCATION:Jason Holbrook Homestead\, 238 Park Ave\, Weymouth\, MA\, 02190\, United States
END:VEVENT
BEGIN:VEVENT
DTSTART;TZID=America/New_York:20230614T090000
DTEND;TZID=America/New_York:20230614T130000
DTSTAMP:20260419T082022
CREATED:20230311T182010Z
LAST-MODIFIED:20230311T182010Z
UID:881-1686733200-1686747600@www.weymouthhistoricalsociety.org
SUMMARY:Open Hours
DESCRIPTION:Open to the public – drop by to view our exhibits\, conduct research\, and learn about volunteer opportunities!
URL:https://www.weymouthhistoricalsociety.org/event/open-hours-2023-06-14/
LOCATION:Jason Holbrook Homestead\, 238 Park Ave\, Weymouth\, MA\, 02190\, United States
END:VEVENT
BEGIN:VEVENT
DTSTART;TZID=America/New_York:20230607T090000
DTEND;TZID=America/New_York:20230607T130000
DTSTAMP:20260419T082022
CREATED:20230311T181640Z
LAST-MODIFIED:20230311T181640Z
UID:879-1686128400-1686142800@www.weymouthhistoricalsociety.org
SUMMARY:Open Hours
DESCRIPTION:Open to the public – drop by to view our exhibits\, conduct research\, and learn about volunteer opportunities!
URL:https://www.weymouthhistoricalsociety.org/event/open-hours-2023-06-07/
LOCATION:Jason Holbrook Homestead\, 238 Park Ave\, Weymouth\, MA\, 02190\, United States
END:VEVENT
BEGIN:VEVENT
DTSTART;TZID=America/New_York:20230531T090000
DTEND;TZID=America/New_York:20230531T130000
DTSTAMP:20260419T082022
CREATED:20230211T181728Z
LAST-MODIFIED:20230211T181728Z
UID:855-1685523600-1685538000@www.weymouthhistoricalsociety.org
SUMMARY:Open Hours
DESCRIPTION:Open to the public – drop by to view our exhibits\, conduct research\, and learn about volunteer opportunities!
URL:https://www.weymouthhistoricalsociety.org/event/open-hours-2023-05-31/
LOCATION:Jason Holbrook Homestead\, 238 Park Ave\, Weymouth\, MA\, 02190\, United States
END:VEVENT
BEGIN:VEVENT
DTSTART;TZID=America/New_York:20230524T090000
DTEND;TZID=America/New_York:20230524T130000
DTSTAMP:20260419T082022
CREATED:20230211T181616Z
LAST-MODIFIED:20230211T181616Z
UID:853-1684918800-1684933200@www.weymouthhistoricalsociety.org
SUMMARY:Open Hours
DESCRIPTION:Open to the public – drop by to view our exhibits\, conduct research\, and learn about volunteer opportunities!
URL:https://www.weymouthhistoricalsociety.org/event/open-hours-2023-05-24/
LOCATION:Jason Holbrook Homestead\, 238 Park Ave\, Weymouth\, MA\, 02190\, United States
END:VEVENT
BEGIN:VEVENT
DTSTART;TZID=America/New_York:20230517T090000
DTEND;TZID=America/New_York:20230517T130000
DTSTAMP:20260419T082022
CREATED:20230211T181510Z
LAST-MODIFIED:20230211T181510Z
UID:851-1684314000-1684328400@www.weymouthhistoricalsociety.org
SUMMARY:Open Hours
DESCRIPTION:Open to the public – drop by to view our exhibits\, conduct research\, and learn about volunteer opportunities!
URL:https://www.weymouthhistoricalsociety.org/event/open-hours-2023-05-17/
LOCATION:Jason Holbrook Homestead\, 238 Park Ave\, Weymouth\, MA\, 02190\, United States
END:VEVENT
BEGIN:VEVENT
DTSTART;TZID=America/New_York:20230510T090000
DTEND;TZID=America/New_York:20230510T130000
DTSTAMP:20260419T082022
CREATED:20230211T181409Z
LAST-MODIFIED:20230211T181409Z
UID:849-1683709200-1683723600@www.weymouthhistoricalsociety.org
SUMMARY:Open Hours
DESCRIPTION:Open to the public – drop by to view our exhibits\, conduct research\, and learn about volunteer opportunities!
URL:https://www.weymouthhistoricalsociety.org/event/open-hours-2023-05-10/
LOCATION:Jason Holbrook Homestead\, 238 Park Ave\, Weymouth\, MA\, 02190\, United States
END:VEVENT
BEGIN:VEVENT
DTSTART;TZID=America/New_York:20230503T090000
DTEND;TZID=America/New_York:20230503T130000
DTSTAMP:20260419T082022
CREATED:20230211T181308Z
LAST-MODIFIED:20230211T181308Z
UID:847-1683104400-1683118800@www.weymouthhistoricalsociety.org
SUMMARY:Open Hours
DESCRIPTION:Open to the public – drop by to view our exhibits\, conduct research\, and learn about volunteer opportunities!
URL:https://www.weymouthhistoricalsociety.org/event/open-hours-2023-05-03/
LOCATION:Jason Holbrook Homestead\, 238 Park Ave\, Weymouth\, MA\, 02190\, United States
END:VEVENT
BEGIN:VEVENT
DTSTART;TZID=America/New_York:20230426T090000
DTEND;TZID=America/New_York:20230426T130000
DTSTAMP:20260419T082022
CREATED:20230211T181203Z
LAST-MODIFIED:20230211T181203Z
UID:845-1682499600-1682514000@www.weymouthhistoricalsociety.org
SUMMARY:Open Hours
DESCRIPTION:Open to the public – drop by to view our exhibits\, conduct research\, and learn about volunteer opportunities!
URL:https://www.weymouthhistoricalsociety.org/event/open-hours-2023-04-26/
LOCATION:Jason Holbrook Homestead\, 238 Park Ave\, Weymouth\, MA\, 02190\, United States
END:VEVENT
BEGIN:VEVENT
DTSTART;TZID=America/New_York:20230419T090000
DTEND;TZID=America/New_York:20230419T130000
DTSTAMP:20260419T082022
CREATED:20230211T181102Z
LAST-MODIFIED:20230211T181102Z
UID:843-1681894800-1681909200@www.weymouthhistoricalsociety.org
SUMMARY:Open Hours
DESCRIPTION:Open to the public – drop by to view our exhibits\, conduct research\, and learn about volunteer opportunities!
URL:https://www.weymouthhistoricalsociety.org/event/open-hours-2023-04-19/
LOCATION:Jason Holbrook Homestead\, 238 Park Ave\, Weymouth\, MA\, 02190\, United States
END:VEVENT
BEGIN:VEVENT
DTSTART;TZID=America/New_York:20230412T090000
DTEND;TZID=America/New_York:20230412T130000
DTSTAMP:20260419T082022
CREATED:20230211T180932Z
LAST-MODIFIED:20230211T180955Z
UID:841-1681290000-1681304400@www.weymouthhistoricalsociety.org
SUMMARY:Open Hours
DESCRIPTION:Open to the public – drop by to view our exhibits\, conduct research\, and learn about volunteer opportunities!
URL:https://www.weymouthhistoricalsociety.org/event/open-hours-2023-04-12/
LOCATION:Jason Holbrook Homestead\, 238 Park Ave\, Weymouth\, MA\, 02190\, United States
END:VEVENT
BEGIN:VEVENT
DTSTART;TZID=America/New_York:20230405T090000
DTEND;TZID=America/New_York:20230405T130000
DTSTAMP:20260419T082022
CREATED:20230211T180828Z
LAST-MODIFIED:20230211T180828Z
UID:839-1680685200-1680699600@www.weymouthhistoricalsociety.org
SUMMARY:Open Hours
DESCRIPTION:Open to the public – drop by to view our exhibits\, conduct research\, and learn about volunteer opportunities!
URL:https://www.weymouthhistoricalsociety.org/event/open-hours-2023-04-05/
LOCATION:Jason Holbrook Homestead\, 238 Park Ave\, Weymouth\, MA\, 02190\, United States
END:VEVENT
BEGIN:VEVENT
DTSTART;TZID=America/New_York:20230401T140000
DTEND;TZID=America/New_York:20230401T160000
DTSTAMP:20260419T082022
CREATED:20230211T175650Z
LAST-MODIFIED:20230323T002127Z
UID:834-1680357600-1680364800@www.weymouthhistoricalsociety.org
SUMMARY:Annual Meeting
DESCRIPTION:Our Annual Meeting will take place on Saturday\, April 1\, 2023\, from 2:00 pm to 4:00 pm in Multipurpose Room 138\, Tufts Library (46 Broad Street\, Weymouth). The meeting is open to all. The Board will talk about what we have been doing at the Jason Holbrook Homestead over the past year and programs we will be putting on in the coming months. We will also codify changes to the Constitution and Bylaws and swear in Board members. After official business\, there will be a speaker\, a Q&A period\, and an open forum for our members and anyone from the public who wishes to know more about the Weymouth Historical Society. There will be membership forms available to fill out for new members\, or for current members who wish to pay their dues in person (cash or check only). We look forward to seeing you there! If you have any questions\, please reach us by calling 781-340-1022 or by emailing our Program Coordinator Sabrina Manzelli at weyhistorical@gmail.com . \nSPEAKER: Historian and writer Christopher Daley will present on “Mass Murder: Massachusetts’ Most Famous Murder Cases.” \nREMINDER: Membership dues should be submitted by April 30th\, 2023. See the Membership page for more details.
URL:https://www.weymouthhistoricalsociety.org/event/annual-meeting-2023/
LOCATION:Tufts Library\, 46 Broad Street\, Weymouth\, MA\, 02188\, United States
END:VEVENT
END:VCALENDAR